BEGIN:VCALENDAR
VERSION:2.0
PRODID:-//Bogielczyk dla kobiet - ECPv4.0.5//NONSGML v1.0//EN
CALSCALE:GREGORIAN
METHOD:PUBLISH
X-WR-CALNAME:Bogielczyk dla kobiet
X-ORIGINAL-URL:http://bogielczykdlakobiet.com
X-WR-CALDESC:Events for Bogielczyk dla kobiet
BEGIN:VEVENT
DTSTART;TZID="Europe/Warsaw":20171109T173000
DTEND;TZID="Europe/Warsaw":20171109T213000
DTSTAMP:20171105T065220
CREATED:20170629T155854
LAST-MODIFIED:20171001T193506
UID:5986-1510248600-1510263000@bogielczykdlakobiet.com
SUMMARY:Szkolenie z Instagrama: Instagram w biznesie.
DESCRIPTION:Szkolenie z Instagrama INSTAGRAM W BIZNESIE jest dla Ciebie jeśli myślisz o promocji swoich produktów lub usług.\nInstagram to medium\, które realnie wpływa na pozyskiwanie zupełnie nowej grupy klientów\, zwiększenie sprzedaży oraz pozytywny wizerunek Twojej marki.\nJeśli chcesz wiedzieć jak najlepiej z niego korzystać\, weź udział w moim autorskim szkoleniu: INSTAGRAM W BIZNESIE. SZKOLENIE Z INSTAGRAMA.\n\nBilet kupisz -> TU.\nSZKOLENIE Z INSTAGRAMA JEST DLA CIEBIE\, JEŚLI:\n· chcesz dotrzeć do zupełnie nowej grupy klientów (na Instagramie jest obecnych kilka milionów Polaków);\n· chcesz wesprzeć swoją sprzedaż tym kanałem;\n· chcesz zbudować sprawnie działający profil na Instagramie;\n· chcesz za pomocą Instagram wywoływać skojarzenia swojej osoby i firmy z wysoką jakością;\n· chcesz się wyróżnić na tle konkurencji;\n· nie posiadasz jeszcze konta na Instagramie albo posiadasz konto i chcesz z niego lepiej korzystać.\n\nBilet kupisz -> TU.\n\nCO ZYSKASZ DZIĘKI UDZIAŁOWI W WARSZTACIE?\n· Poznasz praktyczne aspekty promocji siebie lub swojej firmy na Instagramie.\n· Dowiesz się\, jak osoby prywatne\, małe i duże firmy skutecznie używać Instagrama jako narzędzia marketingowego.\n· Dowiesz się jak poprzez Instagrama docierać do marek.\n· Nauczysz się wykorzystywać Instagram do budowania swojego wizerunku.\n· Dowiesz się jak analizować działania na Instagramie.\n· Poznasz sposoby promocji swojej firmę lub usługi BEZPŁATNIE dzięki Instagramowi.\n\nCO BĘDZIEMY PRAKTYCZNIE ĆWICZYĆ?\n· Jak założyć konto na Instagramie i zdobyć pierwszych fanów.\n· Jak budować wizerunek i bezpłatnie promować firmę na Instagramie.\n· Jakie publikować posty\, by zwiększać zaangażowanie i skupiać społeczność wokół Twojej marki.\n\nBilet kupisz -> TU.\n\nIm szybciej dołączysz do grona osób wykorzystujących możliwości Instagram\, tym większą przewagę zyskasz nad konkurencją.\n\nUWAGA - ZABIERZ SE SOBĄ: telefon lub tablet z systemem operacyjnym Windows Phone\, iOS lub Android\nSzkolenie z Instagrama - szczegóły\nTermin: 09-11-2017 czwartek\nGodz. 17:30-21:30\nAdres: BUSINESS LINK Malta Office Park\, 61-131 Poznań\nul. Abp Baraniaka 88E/ budynek F - parter\n\nCena promocyjna: 130 PLN! Bilet kupisz -> TU.\n\nPROWADZĄCA:\nJoanna Bogielczyk - od blisko 10 lat zaangażowana w propagowanie idei rozwoju osobistego i przedsiębiorczości jako trener rozwoju osobistego\, trener biznesu i coach. Doradza jak skutecznie rozwijać siebie i własną firmę. Wspiera ludzi\, którzy tego potrzebują. Potrafi zmobilizować\, nawet tych najbardziej opornych do zmiany.\nSpecjalizacje\, w których dzieli się swoją pasją i doświadczeniem\, takie jak sprzedaż\, networking\, obsługa klienta\, czy nawiązywanie aliansów biznesowych\, są jej znane z codziennej pracy. Sprawia\, że klienci jej ufają\, pracują z nią przez długie lata i polecają innym.\nMistrzyni relacji! Swoim przykładem pokazuje\, jak realizować w biznesie ideę networkingu i z sukcesem nawiązywać współprace biznesowe. Swoją wiedzą i doświadczeniem dzieli się na blogu oraz na kanale na YouTube.\nWłaścicielka firmy EKSPERT BOGIELCZYK\, współzałożycielka LIGI KOBIET SUKCESU w Poznaniu\, wcześniej przez blisko 10 lat pracowała jako handlowiec w Colgate-Palmolive.
URL:http://bogielczykdlakobiet.com/wydarzenie/szkolenie-z-instagrama/
ATTACH;FMTTYPE=image/jpeg:http://bogielczykdlakobiet.com/wp-content/uploads/2017/06/szkolenie-z-instagrama.jpg
ORGANIZER;CN="%22EKSPERT%22%20firma%20szkoleniowo-doradcza%20Joanna%20Bogielczyk":MAILTO:biuro@bogielczyk.com
END:VEVENT
END:VCALENDAR